BEGIN:VCALENDAR
VERSION:2.0
PRODID:-//Eventin//Event Calendar//EN
CALSCALE:GREGORIAN
METHOD:PUBLISH
BEGIN:VEVENT
UID:99dff5b74906db080dd44a4a4f143780@www.allsaintsnairobi.org
SUMMARY:EASTER EVE
DESCRIPTION:Download Service Sheet
LOCATION:Online
DTSTAMP:20260424T193816Z
DTSTART:20240330T150000Z
DTEND:20260424T180000Z
END:VEVENT
END:VCALENDAR
