BEGIN:VCALENDAR
VERSION:2.0
PRODID:-//Eventin//Event Calendar//EN
CALSCALE:GREGORIAN
METHOD:PUBLISH
BEGIN:VEVENT
UID:12bfb92fc158c1c5a41ed9627dea5965@www.allsaintsnairobi.org
SUMMARY:MEDIA INTERN
DESCRIPTION:CLICK THE BELOW TO APPLY\n\n\n\nhttps://rb.gy/wwj73a
LOCATION:Online
DTSTAMP:20260424T192110Z
DTSTART:20240423T210000Z
DTEND:20260424T205900Z
END:VEVENT
END:VCALENDAR
