BEGIN:VCALENDAR
VERSION:2.0
PRODID:-//Eventin//Event Calendar//EN
CALSCALE:GREGORIAN
METHOD:PUBLISH
BEGIN:VEVENT
UID:0de0bd016de3fec4471fc4409b9c10f8@www.allsaintsnairobi.org
SUMMARY:PERSONAL DEVELOPMENT IN CAREER GROWTH
DESCRIPTION:
LOCATION:Online
DTSTAMP:20260424T194103Z
DTSTART:20240525T193000Z
DTEND:20260424T210000Z
END:VEVENT
END:VCALENDAR
