BEGIN:VCALENDAR
VERSION:2.0
PRODID:-//Eventin//Event Calendar//EN
CALSCALE:GREGORIAN
METHOD:PUBLISH
BEGIN:VEVENT
UID:bc9514aeaf8bb3412d83564c6d1766f6@www.allsaintsnairobi.org
SUMMARY:AWAKE &amp\; BUILD AFRICA
DESCRIPTION:
LOCATION:Online
DTSTAMP:20260424T194229Z
DTSTART:20240526T110000Z
DTEND:20260424T150000Z
END:VEVENT
END:VCALENDAR
