BEGIN:VCALENDAR
VERSION:2.0
PRODID:-//Eventin//Event Calendar//EN
CALSCALE:GREGORIAN
METHOD:PUBLISH
BEGIN:VEVENT
UID:865bf522a31f5c16c87dcb0f0d0f88ae@www.allsaintsnairobi.org
SUMMARY:IDENTITY
DESCRIPTION:
LOCATION:Online
DTSTAMP:20260420T105735Z
DTSTART:20240614T143000Z
DTEND:20260420T163000Z
END:VEVENT
END:VCALENDAR
