BEGIN:VCALENDAR
VERSION:2.0
PRODID:-//Eventin//Event Calendar//EN
CALSCALE:GREGORIAN
METHOD:PUBLISH
BEGIN:VEVENT
UID:7400fedb0c79b8e28fdd935b1c79ccbd@www.allsaintsnairobi.org
SUMMARY:TESTIMONY WEDNESDAY
DESCRIPTION:
LOCATION:Online
DTSTAMP:20260424T173603Z
DTSTART:20240605T143000Z
DTEND:20260424T161500Z
END:VEVENT
END:VCALENDAR
