BEGIN:VCALENDAR
VERSION:2.0
PRODID:-//Eventin//Event Calendar//EN
CALSCALE:GREGORIAN
METHOD:PUBLISH
BEGIN:VEVENT
UID:dc080f9a5b7feb3a492b63b3f2517e5b@www.allsaintsnairobi.org
SUMMARY:SOUNDS  OF PRAISE
DESCRIPTION:
LOCATION:Online
DTSTAMP:20260424T173611Z
DTSTART:20240728T120000Z
DTEND:20260424T150000Z
END:VEVENT
END:VCALENDAR
