BEGIN:VCALENDAR
VERSION:2.0
PRODID:-//Eventin//Event Calendar//EN
CALSCALE:GREGORIAN
METHOD:PUBLISH
BEGIN:VEVENT
UID:f655012600c203f9cd1a1f11f3d52725@www.allsaintsnairobi.org
SUMMARY:SING OUT 4
DESCRIPTION:THEME: BE YE TRANSFORMED (ROMANS 8:34)
LOCATION:Online
DTSTAMP:20260424T173412Z
DTSTART:20240818T120000Z
DTEND:20260424T150000Z
END:VEVENT
END:VCALENDAR
