BEGIN:VCALENDAR
VERSION:2.0
PRODID:-//Eventin//Event Calendar//EN
CALSCALE:GREGORIAN
METHOD:PUBLISH
BEGIN:VEVENT
UID:e57d3c64b160eaea9e83bd5c05efe540@www.allsaintsnairobi.org
SUMMARY:BABY DEDICATION REGISTRATION
DESCRIPTION:REGISTRATION LINK:\n\n\n\nhttps://forms.office.com/r/FRsPHs6FZn
LOCATION:All Saints' Cathedral Nairobi
DTSTAMP:20260420T091620Z
DTSTART:20260502T070000Z
DTEND:20260502T080000Z
END:VEVENT
END:VCALENDAR
