BEGIN:VCALENDAR
VERSION:2.0
PRODID:-//Eventin//Event Calendar//EN
CALSCALE:GREGORIAN
METHOD:PUBLISH
BEGIN:VEVENT
UID:783bb556c4dfbdb151d5d7dcb5100591@www.allsaintsnairobi.org
SUMMARY:PASTORAL VISITATION REGISTRATION
DESCRIPTION:Registration Link:\nhttps://bit.ly/4aTiiOy
LOCATION:All Saints' Cathedral\, Nairobi
DTSTAMP:20260420T093807Z
DTSTART:20260430T050000Z
DTEND:20260430T140000Z
END:VEVENT
END:VCALENDAR
